{
 "currentVersion": 11.1,
 "serviceDescription": "562/COMP234_IMG",
 "name": "562/COMP234_IMG",
 "description": "",
 "extent": {
  "xmin": 317685,
  "ymin": 4345785,
  "xmax": 551415,
  "ymax": 4583115,
  "spatialReference": {
   "wkid": 32613,
   "latestWkid": 32613
  }
 },
 "initialExtent": {
  "xmin": 317685,
  "ymin": 4345785,
  "xmax": 551415,
  "ymax": 4583115,
  "spatialReference": {
   "wkid": 32613,
   "latestWkid": 32613
  }
 },
 "fullExtent": {
  "xmin": 317685,
  "ymin": 4345785,
  "xmax": 551415,
  "ymax": 4583115,
  "spatialReference": {
   "wkid": 32613,
   "latestWkid": 32613
  }
 },
 "sortableFields": "",
 "bandCount": 3,
 "pixelType": "U16",
 "minValues": [
  1,
  7,
  672
 ],
 "maxValues": [
  53399,
  55515,
  54994
 ],
 "meanValues": [
  9549.0084827631,
  10508.54581536,
  10753.627186116
 ],
 "stdvValues": [
  2844.3337233217,
  2843.3059670199,
  3119.4480206257
 ],
 "hasMultidimensions": false,
 "pixelSizeX": 30,
 "pixelSizeY": 30,
 "datasetFormat": "IMAGINE Image",
 "uncompressedSize": 369807606,
 "blockWidth": 64,
 "blockHeight": 64,
 "compressionType": "RLE",
 "bandNames": [
  "Layer_1",
  "Layer_2",
  "Layer_3"
 ],
 "allowCopy": true,
 "allowAnalysis": true,
 "itemAccess": false,
 "noDataValue": 0,
 "noDataValues": [
  0,
  0,
  0
 ],
 "minPixelSize": 0,
 "maxPixelSize": 0,
 "copyrightText": "",
 "serviceDataType": "esriImageServiceDataTypeGeneric",
 "serviceSourceType": "esriImageServiceSourceTypeDataset",
 "objectIdField": "",
 "fields": [],
 "capabilities": "Image,Metadata,Mensuration",
 "defaultMosaicMethod": "Center",
 "allowedMosaicMethods": "",
 "sortField": "",
 "sortValue": null,
 "sortAscending": true,
 "mosaicOperator": "First",
 "defaultCompressionQuality": 75,
 "defaultResamplingMethod": "Bilinear",
 "maxImageHeight": 4100,
 "maxImageWidth": 15000,
 "allowRasterFunction": true,
 "rasterFunctionInfos": [
  {
   "name": "None",
   "description": "",
   "help": ""
  }
 ],
 "rasterTypeInfos": [
  {
   "name": "Raster Dataset",
   "description": "Supports all ArcGIS Raster Datasets",
   "help": ""
  }
 ],
 "mensurationCapabilities": "Basic",
 "hasHistograms": true,
 "hasColormap": false,
 "hasRasterAttributeTable": false,
 "minScale": 0,
 "maxScale": 0,
 "exportTilesAllowed": false,
 "supportsStatistics": false,
 "supportsAdvancedQueries": false,
 "editFieldsInfo": null,
 "ownershipBasedAccessControlForRasters": null,
 "allowComputeTiePoints": false,
 "useStandardizedQueries": true,
 "advancedQueryCapabilities": {
  "useStandardizedQueries": true,
  "supportsStatistics": false,
  "supportsOrderBy": false,
  "supportsDistinct": false,
  "supportsPagination": false
 },
 "spatialReference": {
  "wkid": 32613,
  "latestWkid": 32613
 }
}
