View In:
ArcGIS JavaScript
ArcGIS Online Map Viewer
ArcGIS Earth
Service Description: 562/COMP234_IMG
Name: 562/COMP234_IMG
Description:
Single Fused Map Cache: false
Extent:
XMin: 317685
YMin: 4345785
XMax: 551415
YMax: 4583115
Spatial Reference: 32613
(32613)
Initial Extent:
XMin: 317685
YMin: 4345785
XMax: 551415
YMax: 4583115
Spatial Reference: 32613
(32613)
Full Extent:
XMin: 317685
YMin: 4345785
XMax: 551415
YMax: 4583115
Spatial Reference: 32613
(32613)
Pixel Size X: 30.0
Pixel Size Y: 30.0
Band Count: 3
Pixel Type: U16
RasterFunction Infos: {"rasterFunctionInfos": [{
"name": "None",
"description": "",
"help": ""
}]}
Mensuration Capabilities: Basic
Has Histograms: true
Has Colormap: false
Has Multi Dimensions : false
Rendering Rule:
Min Scale: 0
Max Scale: 0
Copyright Text:
Service Data Type: esriImageServiceDataTypeGeneric
Min Values: 1, 7, 672
Max Values: 53399, 55515, 54994
Mean Values: 9549.0084827631, 10508.54581536, 10753.627186116
Standard Deviation Values: 2844.3337233217, 2843.3059670199, 3119.4480206257
Object ID Field:
Fields:
None
Default Mosaic Method: Center
Allowed Mosaic Methods:
SortField:
SortValue: null
Mosaic Operator: First
Default Compression Quality: 75
Default Resampling Method: Bilinear
Max Record Count: null
Max Image Height: 4100
Max Image Width: 15000
Max Download Image Count: null
Max Mosaic Image Count: null
Allow Raster Function: true
Allow Copy: true
Allow Analysis: true
Allow Compute TiePoints: false
Supports Statistics: false
Supports Advanced Queries: false
Use StandardizedQueries: true
Raster Type Infos:
Name: Raster Dataset
Description: Supports all ArcGIS Raster Datasets
Help:
Has Raster Attribute Table: false
Edit Fields Info: null
Ownership Based AccessControl For Rasters: null
Child Resources:
Info
Histograms
Statistics
Key Properties
Legend
Raster Function Infos
Supported Operations:
Export Image
Identify
Measure
Compute Histograms
Compute Statistics Histograms
Get Samples
Compute Class Statistics
Query Boundary
Compute Pixel Location
Compute Angles
Validate
Project